BEGIN:VCALENDAR
VERSION:2.0
PRODID:-//wp-events-plugin.com//7.2.3.1//EN
TZID:America/Vancouver
X-WR-TIMEZONE:America/Vancouver
BEGIN:VEVENT
UID:43@collagesingers.com
DTSTART:20161111T220000Z
DTEND:20161111T230000Z
DTSTAMP:20161024T175056Z
URL:https://collagesingers.com/events/remembrance-day-and-poco-legion/
SUMMARY:Remembrance Day at PoCo Legion
DESCRIPTION:A short 30-minute set of some of our liveliest songs.
ATTACH;FMTTYPE=image/jpeg:https://collagesingers.com/wp-content/uploads/20
 16/10/ANZAC-2013.jpg
LOCATION:Port Coquitlam Legion\, 2675 Shaughnessy St.\, Port Coquitlam\, BC
 \, V3C 0B9\, Canada
GEO:49.264123;-122.780183
X-APPLE-STRUCTURED-LOCATION;VALUE=URI;X-ADDRESS=2675 Shaughnessy St.\, Port
  Coquitlam\, BC\, V3C 0B9\, Canada;X-APPLE-RADIUS=100;X-TITLE=Port Coquitl
 am Legion:geo:49.264123,-122.780183
END:VEVENT
END:VCALENDAR