BEGIN:VCALENDAR
VERSION:2.0
PRODID:-//wp-events-plugin.com//7.2.3.1//EN
TZID:America/Vancouver
X-WR-TIMEZONE:America/Vancouver
BEGIN:VEVENT
UID:49@collagesingers.com
DTSTART:20170701T233000Z
DTEND:20170702T003000Z
DTSTAMP:20170427T193150Z
URL:https://collagesingers.com/events/kitsilano-showboat-2/
SUMMARY:Kitsilano Showboat
DESCRIPTION:This is Collage's third apearance at the world-famous Kitsilano
  Showboat outdoor stage. Come join us on Canada Day for some fun and enter
 tainment!
LOCATION:Kitsilano Showboat\, 2300 Cornwall Ave.\, Vancouver\, BC\, Canada
GEO:49.27332490999036;-123.15829162037659
X-APPLE-STRUCTURED-LOCATION;VALUE=URI;X-ADDRESS=2300 Cornwall Ave.\, Vancou
 ver\, BC\, Canada;X-APPLE-RADIUS=100;X-TITLE=Kitsilano Showboat:geo:49.273
 32490999036,-123.15829162037659
END:VEVENT
END:VCALENDAR