BEGIN:VCALENDAR
VERSION:2.0
PRODID:-//wp-events-plugin.com//7.2.3.1//EN
TZID:America/Vancouver
X-WR-TIMEZONE:America/Vancouver
BEGIN:VEVENT
UID:187@collagesingers.com
DTSTART;TZID=America/Vancouver:20211215T190000
DTEND;TZID=America/Vancouver:20211215T200000
DTSTAMP:20211126T031623Z
URL:https://collagesingers.com/events/holiday-festival-at-the-port-moody-s
 tation-museum/
SUMMARY:Holiday Festival at the Port Moody Station Museum
DESCRIPTION:Collage brings their unique collection of Christmas music to th
 e Port Moody Station Museum for Port Moody’s Holiday Festival. Come hear
  our familiar - and some not so familiar - seasonal tunes! Dress for the w
 eather as we’ll be performing outside under the canopies in front of the
  “Venosta” rail car.&nbsp\;
CATEGORIES:Christmas,Performance
LOCATION:Port Moody Station Museum\, 2734 Murray St\, Port Moody\, BC\, Can
 ada
GEO:49.279283;-122.850801
X-APPLE-STRUCTURED-LOCATION;VALUE=URI;X-ADDRESS=2734 Murray St\, Port Moody
 \, BC\, Canada;X-APPLE-RADIUS=100;X-TITLE=Port Moody Station Museum:geo:49
 .279283,-122.850801
END:VEVENT
BEGIN:VTIMEZONE
TZID:America/Vancouver
X-LIC-LOCATION:America/Vancouver
BEGIN:STANDARD
DTSTART:20211107T010000
TZOFFSETFROM:-0700
TZOFFSETTO:-0800
TZNAME:PST
END:STANDARD
END:VTIMEZONE
END:VCALENDAR