BEGIN:VCALENDAR
VERSION:2.0
PRODID:-//wp-events-plugin.com//7.2.3.1//EN
TZID:America/Vancouver
X-WR-TIMEZONE:America/Vancouver
BEGIN:VEVENT
UID:180@collagesingers.com
DTSTART;TZID=America/Vancouver:20220320T150000
DTEND;TZID=America/Vancouver:20220320T160000
DTSTAMP:20220406T060002Z
URL:https://collagesingers.com/events/collage-at-rj-kent/
SUMMARY:Collage at RJ Kent
DESCRIPTION:Collage has been working on our new "Love" set and we're lookin
 g forward to singing it for you. Come and sing along\, clap\, dance - or e
 njoy it in whatever way you like!
CATEGORIES:Performance
LOCATION:Port Coquitlam Legion\, 2675 Shaughnessy St.\, Port Coquitlam\, BC
 \, V3C 0B9\, Canada
GEO:49.264123;-122.780183
X-APPLE-STRUCTURED-LOCATION;VALUE=URI;X-ADDRESS=2675 Shaughnessy St.\, Port
  Coquitlam\, BC\, V3C 0B9\, Canada;X-APPLE-RADIUS=100;X-TITLE=Port Coquitl
 am Legion:geo:49.264123,-122.780183
END:VEVENT
BEGIN:VTIMEZONE
TZID:America/Vancouver
X-LIC-LOCATION:America/Vancouver
BEGIN:DAYLIGHT
DTSTART:20220313T030000
TZOFFSETFROM:-0800
TZOFFSETTO:-0700
TZNAME:PDT
END:DAYLIGHT
END:VTIMEZONE
END:VCALENDAR