BEGIN:VCALENDAR
VERSION:2.0
PRODID:-//wp-events-plugin.com//7.2.3.1//EN
TZID:America/Vancouver
X-WR-TIMEZONE:America/Vancouver
BEGIN:VEVENT
UID:503@collagesingers.com
DTSTART;TZID=America/Vancouver:20240209T190000
DTEND;TZID=America/Vancouver:20240209T210000
DTSTAMP:20240128T155944Z
URL:https://collagesingers.com/events/collage-at-lafarge-lake/
SUMMARY:Collage at LaFarge Lake
DESCRIPTION:\n\nCollage sings our favourite songs at the beautiful LaFarge 
 Lake Plaza. Come join us!
ATTACH;FMTTYPE=image/jpeg:https://collagesingers.com/wp-content/uploads/20
 24/01/IMG_0150.jpeg
CATEGORIES:Performance
LOCATION:LaFarge Lake Community Plaza\, 1299 Pinetree Way\, Coquitlam \, BC
 \, Canada
GEO:49.289721;-122.785396
X-APPLE-STRUCTURED-LOCATION;VALUE=URI;X-ADDRESS=1299 Pinetree Way\, Coquitl
 am \, BC\, Canada;X-APPLE-RADIUS=100;X-TITLE=LaFarge Lake Community Plaza:
 geo:49.289721,-122.785396
END:VEVENT
BEGIN:VTIMEZONE
TZID:America/Vancouver
X-LIC-LOCATION:America/Vancouver
BEGIN:STANDARD
DTSTART:20231105T010000
TZOFFSETFROM:-0700
TZOFFSETTO:-0800
TZNAME:PST
END:STANDARD
END:VTIMEZONE
END:VCALENDAR