BEGIN:VCALENDAR
VERSION:2.0
PRODID:-//wp-events-plugin.com//7.2.3.1//EN
TZID:America/Vancouver
X-WR-TIMEZONE:America/Vancouver
BEGIN:VEVENT
UID:83@collagesingers.com
DTSTART:20191220T013000Z
DTEND:20191220T030000Z
DTSTAMP:20191128T171626Z
URL:https://collagesingers.com/events/christmas-at-the-club-2/
SUMMARY:Christmas at Hawthorne Lodge
DESCRIPTION:A Collage tradition for many years\, this is one of the Hawthor
 ne residents' favourite Christmas events. You can't do better than an hour
  with Collage singing old and new seasonal favourites!\n\nWe will neither 
 confirm nor deny that snowballs may be involved.
CATEGORIES:Christmas
LOCATION:Hawthorne Lodge\, 2111 Hawthorne Ave.\, Port Coquitlam\, BC\, Cana
 da
GEO:49.257934;-122.777358
X-APPLE-STRUCTURED-LOCATION;VALUE=URI;X-ADDRESS=2111 Hawthorne Ave.\, Port 
 Coquitlam\, BC\, Canada;X-APPLE-RADIUS=100;X-TITLE=Hawthorne Lodge:geo:49.
 257934,-122.777358
END:VEVENT
END:VCALENDAR