BEGIN:VCALENDAR
VERSION:2.0
PRODID:-//wp-events-plugin.com//7.2.3.1//EN
TZID:America/Vancouver
X-WR-TIMEZONE:America/Vancouver
BEGIN:VEVENT
UID:33@collagesingers.com
DTSTART:20160403T020000Z
DTEND:20160403T033000Z
DTSTAMP:20160222T083642Z
URL:https://collagesingers.com/events/benefit-concert-for-beth/
SUMMARY:Benefit Concert for Beth
DESCRIPTION:Collage joins forces with Blackthorn to present a benefit fundr
 aiser concert for Beth Lopez. Beth is battling breast cancer and funding i
 s a challenge where she lives. Come and enjoy an evening of great entertai
 nment and help Beth in her fight!\n\nTickets are by donation at the door. 
 There will be an intermission with refreshments.\n\nWe hope to see you the
 re!
CATEGORIES:Fundraiser
LOCATION:St. Andrew's United Church\, Port Moody\, 2318 St. John's St.\, Po
 rt Moody\, BC\, V3H 2A9\, Canada
GEO:49.2767146;-122.86040960000003
X-APPLE-STRUCTURED-LOCATION;VALUE=URI;X-ADDRESS=2318 St. John's St.\, Port 
 Moody\, BC\, V3H 2A9\, Canada;X-APPLE-RADIUS=100;X-TITLE=St. Andrew's Unit
 ed Church\, Port Moody:geo:49.2767146,-122.86040960000003
END:VEVENT
END:VCALENDAR